BEGIN:VCALENDAR
VERSION:2.0
PRODID:-//wp-events-plugin.com//7.2.2.1//EN
TZID:America/Phoenix
X-WR-TIMEZONE:America/Phoenix
BEGIN:VEVENT
UID:679@paqa.net
DTSTART;TZID=America/Phoenix:20260429T184500
DTEND;TZID=America/Phoenix:20260429T200000
DTSTAMP:20260226T013719Z
URL:https://paqa.net/events/board-meeting-24/
SUMMARY:Board Meeting
DESCRIPTION:Board meetings are open to all members.
CATEGORIES:Board Meeting
LOCATION:https://us06web.zoom.us/j/82479113728?pwd=gcLPchDrgFa4QO5akTRKLxUc
 SSqsQN.1
END:VEVENT
BEGIN:VTIMEZONE
TZID:America/Phoenix
X-LIC-LOCATION:America/Phoenix
BEGIN:STANDARD
DTSTART:20250429T184500
TZOFFSETFROM:-0700
TZOFFSETTO:-0700
TZNAME:MST
END:STANDARD
END:VTIMEZONE
END:VCALENDAR