BEGIN:VCALENDAR
VERSION:2.0
PRODID:-//wp-events-plugin.com//7.2.2.1//EN
TZID:America/Phoenix
X-WR-TIMEZONE:America/Phoenix
BEGIN:VEVENT
UID:681@paqa.net
DTSTART;TZID=America/Phoenix:20260624T184500
DTEND;TZID=America/Phoenix:20260624T200000
DTSTAMP:20260226T013917Z
URL:https://paqa.net/events/board-meeting-26/
SUMMARY:Board Meeting
DESCRIPTION:Board meetings are open to all members.
CATEGORIES:Board Meeting
LOCATION:https://us06web.zoom.us/j/84735989936?pwd=rR7aMYfsEGRBBaTIHTttubmC
 z9xarf.1
END:VEVENT
BEGIN:VTIMEZONE
TZID:America/Phoenix
X-LIC-LOCATION:America/Phoenix
BEGIN:STANDARD
DTSTART:20250624T184500
TZOFFSETFROM:-0700
TZOFFSETTO:-0700
TZNAME:MST
END:STANDARD
END:VTIMEZONE
END:VCALENDAR