BEGIN:VCALENDAR
VERSION:2.0
PRODID:-//wp-events-plugin.com//7.2.2.1//EN
TZID:America/Phoenix
X-WR-TIMEZONE:America/Phoenix
BEGIN:VEVENT
UID:743@paqa.net
DTSTART;TZID=America/Phoenix:20260505T183000
DTEND;TZID=America/Phoenix:20260505T190000
DTSTAMP:20260416T171826Z
URL:https://paqa.net/events/budget-q-a/
SUMMARY:Budget Q & A
DESCRIPTION:If you have questions on the proposed 2026-2027 Proposed Budget
 \, here is a chance to join a Zoom call to ask the Executive Committee any
  questions you may have.
CATEGORIES:General Meeting
LOCATION:https://us06web.zoom.us/j/84259341273?pwd=RBBeAw7MuIK9CYc1ZF62jFCd
 ikbyHv.1
END:VEVENT
BEGIN:VTIMEZONE
TZID:America/Phoenix
X-LIC-LOCATION:America/Phoenix
BEGIN:STANDARD
DTSTART:20250505T183000
TZOFFSETFROM:-0700
TZOFFSETTO:-0700
TZNAME:MST
END:STANDARD
END:VTIMEZONE
END:VCALENDAR