BEGIN:VCALENDAR
VERSION:2.0
PRODID:-//wp-events-plugin.com//7.2.2.1//EN
TZID:America/Phoenix
X-WR-TIMEZONE:America/Phoenix
BEGIN:VEVENT
UID:717@paqa.net
DTSTART;TZID=America/Phoenix:20260502T100000
DTEND;TZID=America/Phoenix:20260502T120000
DTSTAMP:20260409T164209Z
URL:https://paqa.net/events/embroidery-social-group-meeting-9/
SUMMARY:Machine Embroidery Social Group Meeting
DESCRIPTION:It's our 3rd meeting of the year for our machine embroidery fol
 ks.  Topic TBD  No machine!  No registration needed\, just show up!\n\n
 &nbsp\;\n\nOur meetings are open discussion and sometimes a demo.  We lea
 rn something new just by sharing ideas every time!\n\n&nbsp\;\n\n&nbsp\;
CATEGORIES:Social Groups
LOCATION:Northern Groves Community Center\, 4020 W Royal Palm Rd\, Phoenix\
 , Arizona\, United States
GEO:33.555201;-112.146222
X-APPLE-STRUCTURED-LOCATION;VALUE=URI;X-ADDRESS=4020 W Royal Palm Rd\, Phoe
 nix\, Arizona\, United States;X-APPLE-RADIUS=100;X-TITLE=Northern Groves C
 ommunity Center:geo:33.555201,-112.146222
END:VEVENT
BEGIN:VTIMEZONE
TZID:America/Phoenix
X-LIC-LOCATION:America/Phoenix
BEGIN:STANDARD
DTSTART:20250502T100000
TZOFFSETFROM:-0700
TZOFFSETTO:-0700
TZNAME:MST
END:STANDARD
END:VTIMEZONE
END:VCALENDAR