BEGIN:VCALENDAR
VERSION:2.0
PRODID:-//wp-events-plugin.com//7.2.2.1//EN
TZID:America/Phoenix
X-WR-TIMEZONE:America/Phoenix
BEGIN:VEVENT
UID:739@paqa.net
DTSTART;TZID=America/Phoenix:20260801T000000
DTEND;TZID=America/Phoenix:20260801T000000
DTSTAMP:20260409T164149Z
URL:https://paqa.net/events/embroidery-social-meeting/
SUMMARY:Machine Embroidery Social Group Meeting
DESCRIPTION:Do you enjoy machine embroidery?  Please join us for a bit of 
 education\, a lot of discussion and\, of course\, Show and Tell!  You do 
 not need to bring your machine.  No need to reserve a seat.\n\n&nbsp\;\n\
 nQuestions?\n\nMembers - Melodie DeGarmo\nGuests - info@paqa.net
CATEGORIES:Social Groups
LOCATION:Northern Groves Community Center\, 4020 W Royal Palm Rd\, Phoenix\
 , Arizona\, United States
GEO:33.555201;-112.146222
X-APPLE-STRUCTURED-LOCATION;VALUE=URI;X-ADDRESS=4020 W Royal Palm Rd\, Phoe
 nix\, Arizona\, United States;X-APPLE-RADIUS=100;X-TITLE=Northern Groves C
 ommunity Center:geo:33.555201,-112.146222
END:VEVENT
BEGIN:VTIMEZONE
TZID:America/Phoenix
X-LIC-LOCATION:America/Phoenix
BEGIN:STANDARD
DTSTART:20250801T000000
TZOFFSETFROM:-0700
TZOFFSETTO:-0700
TZNAME:MST
END:STANDARD
END:VTIMEZONE
END:VCALENDAR