BEGIN:VCALENDAR
VERSION:2.0
PRODID:-//wp-events-plugin.com//7.2.2.1//EN
TZID:America/Phoenix
X-WR-TIMEZONE:America/Phoenix
BEGIN:VEVENT
UID:744@paqa.net
DTSTART;TZID=America/Phoenix:20260424T090000
DTEND;TZID=America/Phoenix:20260424T164500
DTSTAMP:20260417T172935Z
URL:https://paqa.net/events/friday-1-day-ticket-april-24th-35th-ave-in-tow
 n-retreat/
SUMMARY:Friday 1-Day Ticket - April 24th 35th Ave In-Town Retreat
DESCRIPTION:You are purchasing a ticket for Friday\, April 24th only.  Thi
 s ticket can be purchased starting at 7:00am April 21st.\n\nGeneral info:\
 n\nRetreat is held in the Event Center at 35th Ave Sew ‘N Vac. This is a
  no frills retreat. You can just turn off your machine for the day without
  schlepping your stuff back and forth!\n\nHours - Friday 9am - 4:45 pm\nHo
 st:  Nancy Johnson\n\nQuestions?\n\nPAQA Member - contact Debbie Kohn (co
 ntact info in the Directory)\nGuests - email info@paqa.net\n\nBooking prob
 lems? contact Melodie DeGarmo\n\n&nbsp\;\n\nIf you have any difficulty boo
 king this ticket\, please contact Melodie DeGarmo
CATEGORIES:Retreats
LOCATION:35th Ave Sew and Vac Event Center\, 3548 W. Northern Ave\, Phoenix
 \, AZ\, 85051\, United States
GEO:33.553972;-112.134908
X-APPLE-STRUCTURED-LOCATION;VALUE=URI;X-ADDRESS=3548 W. Northern Ave\, Phoe
 nix\, AZ\, 85051\, United States;X-APPLE-RADIUS=100;X-TITLE=35th Ave Sew a
 nd Vac Event Center:geo:33.553972,-112.134908
END:VEVENT
BEGIN:VTIMEZONE
TZID:America/Phoenix
X-LIC-LOCATION:America/Phoenix
BEGIN:STANDARD
DTSTART:20250424T090000
TZOFFSETFROM:-0700
TZOFFSETTO:-0700
TZNAME:MST
END:STANDARD
END:VTIMEZONE
END:VCALENDAR