BEGIN:VCALENDAR
VERSION:2.0
PRODID:-//wp-events-plugin.com//7.2.2.1//EN
TZID:America/Phoenix
X-WR-TIMEZONE:America/Phoenix
BEGIN:VEVENT
UID:593@paqa.net
DTSTART;TZID=America/Phoenix:20260507T181500
DTEND;TZID=America/Phoenix:20260507T210000
DTSTAMP:20260420T161233Z
URL:https://paqa.net/events/general-monthly-meeting-2026-05-07/
SUMMARY:General Monthly Meeting - Gina Perkes
DESCRIPTION:Join us for fun at our regular monthly meeting.  The doors ope
 n at 6:15 and the meeting starts at 6:45.
ATTACH;FMTTYPE=image/jpeg:https://paqa.net/wp-content/uploads/2024/06/imag
 e.png
CATEGORIES:General Meeting
LOCATION:Faith United Methodist Church\, 8640 N 19th Ave\, Phoenix\, Arizon
 a\, 85021\, United States
GEO:33.563346;-112.100779
X-APPLE-STRUCTURED-LOCATION;VALUE=URI;X-ADDRESS=8640 N 19th Ave\, Phoenix\,
  Arizona\, 85021\, United States;X-APPLE-RADIUS=100;X-TITLE=Faith United M
 ethodist Church:geo:33.563346,-112.100779
END:VEVENT
BEGIN:VTIMEZONE
TZID:America/Phoenix
X-LIC-LOCATION:America/Phoenix
BEGIN:STANDARD
DTSTART:20250507T181500
TZOFFSETFROM:-0700
TZOFFSETTO:-0700
TZNAME:MST
END:STANDARD
END:VTIMEZONE
END:VCALENDAR