BEGIN:VCALENDAR
VERSION:2.0
PRODID:-//wp-events-plugin.com//7.2.2.1//EN
TZID:America/Phoenix
X-WR-TIMEZONE:America/Phoenix
BEGIN:VEVENT
UID:685@paqa.net
DTSTART;TZID=America/Phoenix;VALUE=DATE:20260424
DTEND;TZID=America/Phoenix;VALUE=DATE:20260427
DTSTAMP:20260421T002309Z
URL:https://paqa.net/events/in-town-3-day-daytime-retreat-4-24-4-26-26/
SUMMARY:3-Day Ticket 35th Ave In-Town Retreat - April 24-26
DESCRIPTION:Join us for a 3 day\, daytime only retreat in the Event Center 
 at 35th Ave Sew ‘N Vac. This is a no frills retreat. You can just turn o
 ff your machine for the day without schlepping your stuff back and forth!\
 n\nHours - Friday &amp\; Saturday - 9am - 4:45 pm\nSunday - 10am - 3:45 pm
 \n\n$45 PAQA Members\, registration opens on 1/24/26 for the full 3-day ev
 ent\n$55 Guests registration opens on 3/24/26 for the full 3-day event\n\n
 NEW!  On Tuesday\, April 21st at 7:00 am daily tickets will be available 
 for any remaining seats - $15 per day.  These are separate events on the 
 calendar.  Tickets need to be purchased individually.\n\nHost:  Nancy Jo
 hnson\n\nQuestions?\n\nPAQA Member - contact Debbie Kohn (contact info in 
 the Directory)\nGuests - email info@paqa.net\n\nBooking problems? contact 
 Melodie DeGarmo
ATTACH;FMTTYPE=image/jpeg:https://paqa.net/wp-content/uploads/2024/06/Quil
 ting_Retreats_1200x1599_20230908084926.webp
CATEGORIES:Retreats
LOCATION:35th Ave Sew and Vac Event Center\, 3548 W. Northern Ave\, Phoenix
 \, AZ\, 85051\, United States
GEO:33.553972;-112.134908
X-APPLE-STRUCTURED-LOCATION;VALUE=URI;X-ADDRESS=3548 W. Northern Ave\, Phoe
 nix\, AZ\, 85051\, United States;X-APPLE-RADIUS=100;X-TITLE=35th Ave Sew a
 nd Vac Event Center:geo:33.553972,-112.134908
END:VEVENT
BEGIN:VTIMEZONE
TZID:America/Phoenix
X-LIC-LOCATION:America/Phoenix
BEGIN:STANDARD
DTSTART:20250424T000000
TZOFFSETFROM:-0700
TZOFFSETTO:-0700
TZNAME:MST
END:STANDARD
END:VTIMEZONE
END:VCALENDAR