BEGIN:VCALENDAR
VERSION:2.0
PRODID:-//wp-events-plugin.com//7.2.2.1//EN
TZID:America/Phoenix
X-WR-TIMEZONE:America/Phoenix
BEGIN:VEVENT
UID:691@paqa.net
DTSTART;TZID=America/Phoenix;VALUE=DATE:20261226
DTEND;TZID=America/Phoenix;VALUE=DATE:20261229
DTSTAMP:20250903T235346Z
URL:https://paqa.net/events/in-town-3-day-daytime-retreat-december-26-28-2
 /
SUMMARY:In Town 3 Day Daytime Retreat - December 26 - 28
DESCRIPTION:Join us for a 3 day\, daytime only retreat in the Event Center 
 at 35th Ave Sew ‘N Vac. This is a no frills retreat. You can just turn o
 ff your machine for the day without schlepping your stuff back and forth!\
 n\nHours - Saturday &amp\; Monday - 9am - 4:45 pm\nSunday - 10am - 3:45 pm
 \n\n$45 PAQA Members\, registration opens on 9/26/26\n\n$55 Guests registr
 ation opens on 11/26/26\n\nHost:  Debbie Kohn\n\nQuestions?\n\nPAQA Membe
 r - contact Debbie Kohn (contact info in the Directory)\n\nGuests - email 
 info@paqa.net
ATTACH;FMTTYPE=image/jpeg:https://paqa.net/wp-content/uploads/2024/06/Quil
 ting_Retreats_1200x1599_20230908084926.webp
CATEGORIES:Retreats
LOCATION:35th Ave Sew and Vac Event Center\, 3548 W. Northern Ave\, Phoenix
 \, AZ\, 85051\, United States
GEO:33.553972;-112.134908
X-APPLE-STRUCTURED-LOCATION;VALUE=URI;X-ADDRESS=3548 W. Northern Ave\, Phoe
 nix\, AZ\, 85051\, United States;X-APPLE-RADIUS=100;X-TITLE=35th Ave Sew a
 nd Vac Event Center:geo:33.553972,-112.134908
END:VEVENT
BEGIN:VTIMEZONE
TZID:America/Phoenix
X-LIC-LOCATION:America/Phoenix
BEGIN:STANDARD
DTSTART:20251226T000000
TZOFFSETFROM:-0700
TZOFFSETTO:-0700
TZNAME:MST
END:STANDARD
END:VTIMEZONE
END:VCALENDAR