BEGIN:VCALENDAR
VERSION:2.0
PRODID:-//wp-events-plugin.com//7.2.2.1//EN
TZID:America/Phoenix
X-WR-TIMEZONE:America/Phoenix
BEGIN:VEVENT
UID:689@paqa.net
DTSTART;TZID=America/Phoenix;VALUE=DATE:20260724
DTEND;TZID=America/Phoenix;VALUE=DATE:20260727
DTSTAMP:20250907T231535Z
URL:https://paqa.net/events/in-town-3-day-daytime-retreat-july-24-26-2/
SUMMARY:In Town 3 Day Embroidery Focused Daytime Retreat - July 24-26
DESCRIPTION:Join us for a 3-day\, daytime only retreat in the Event Center 
 at 35th Ave Sew ‘N Vac. This is a no frills retreat. You can just turn o
 ff your machine for the day without schlepping your stuff back and forth!\
 n\nWhat does embroidery focused mean?  It just means that 25 wooden seats
  are for embroiders and there are an additional 15 quilters seats.\n\nHour
 s - Friday &amp\; Saturday - 9am - 4:45 pm\nSunday - 10am - 3:45 pm\n\n$45
  PAQA Members\, registration opens on 4/24/26\n\n$55 Guests registration o
 pens on 6/24/26\n\nHost:  Jeri Kimbrough\n\nQuestions?\n\nPAQA Member - c
 ontact Debbie Kohn (contact info in the Directory)\n\nGuests - email info@
 paqa.net
ATTACH;FMTTYPE=image/jpeg:https://paqa.net/wp-content/uploads/2024/06/Quil
 ting_Retreats_1200x1599_20230908084926.webp
CATEGORIES:Retreats
LOCATION:35th Ave Sew and Vac Event Center\, 3548 W. Northern Ave\, Phoenix
 \, AZ\, 85051\, United States
GEO:33.553972;-112.134908
X-APPLE-STRUCTURED-LOCATION;VALUE=URI;X-ADDRESS=3548 W. Northern Ave\, Phoe
 nix\, AZ\, 85051\, United States;X-APPLE-RADIUS=100;X-TITLE=35th Ave Sew a
 nd Vac Event Center:geo:33.553972,-112.134908
END:VEVENT
BEGIN:VTIMEZONE
TZID:America/Phoenix
X-LIC-LOCATION:America/Phoenix
BEGIN:STANDARD
DTSTART:20250724T000000
TZOFFSETFROM:-0700
TZOFFSETTO:-0700
TZNAME:MST
END:STANDARD
END:VTIMEZONE
END:VCALENDAR