BEGIN:VCALENDAR
VERSION:2.0
PRODID:-//wp-events-plugin.com//7.2.2.1//EN
TZID:America/Phoenix
X-WR-TIMEZONE:America/Phoenix
BEGIN:VEVENT
UID:640@paqa.net
DTSTART;TZID=America/Phoenix:20260507T143000
DTEND;TZID=America/Phoenix:20260507T173000
DTSTAMP:20250708T034104Z
URL:https://paqa.net/events/pre-meeting-open-sew-230-530-3-2026-05-07/
SUMMARY:Pre-Meeting Open Sew 2:30 - 5:30
DESCRIPTION:Join us for sewing with PAQA friends from 2:30 - 5:30 prior to 
 the meeting.  Bring any project you would like to work on.  You do not h
 ave to pre-register\, just come anytime!\n\nQuestions:\n\nMembers:  Conta
 ct Sondra Cevelin by text (# in the Directory)\nGuests:  e-mail info@paqa
 .net
CATEGORIES:Pre-Meeting Open Sew
LOCATION:Faith United Methodist Church\, 8640 N 19th Ave\, Phoenix\, Arizon
 a\, 85021\, United States
GEO:33.563346;-112.100779
X-APPLE-STRUCTURED-LOCATION;VALUE=URI;X-ADDRESS=8640 N 19th Ave\, Phoenix\,
  Arizona\, 85021\, United States;X-APPLE-RADIUS=100;X-TITLE=Faith United M
 ethodist Church:geo:33.563346,-112.100779
END:VEVENT
BEGIN:VTIMEZONE
TZID:America/Phoenix
X-LIC-LOCATION:America/Phoenix
BEGIN:STANDARD
DTSTART:20250507T143000
TZOFFSETFROM:-0700
TZOFFSETTO:-0700
TZNAME:MST
END:STANDARD
END:VTIMEZONE
END:VCALENDAR