BEGIN:VCALENDAR
VERSION:2.0
PRODID:-//wp-events-plugin.com//7.2.2.1//EN
TZID:America/Phoenix
X-WR-TIMEZONE:America/Phoenix
BEGIN:VEVENT
UID:747@paqa.net
DTSTART;TZID=America/Phoenix:20260517T100000
DTEND;TZID=America/Phoenix:20260517T154500
DTSTAMP:20260419T231942Z
URL:https://paqa.net/events/project-bag-class-may-17/
SUMMARY:ByAnnie Project Bag Class - May 17
DESCRIPTION:Project Bag Class taught by Rachel McCarthy\nSunday\, May 17th 
 - 10 AM - 3:45 PM - 35th Ave Sew &amp\; Vac Classroom\, Northern Ave\n\nC
 ost:  Members $20\, Guests $30\nFee includes instruction\, vinyl and Soft
  &amp\; Stable\nPlease purchase your pattern\, fabric\, Pellon SF101 and z
 ipper prior to class.  You will want to bring thread to match your fabric
  if any parts are quilted.  You do not need to cut before class.\n\nLearn
  a quick\, adaptable\, and addictive bag using the ByAnnie Project Bag pat
 tern.  In this hands-on session\, you'll learn how to create an easy\, ve
 rsatile bag that's perfect for storing your Works in Progress (WIPs) or ot
 her sewing supplies.  Along the way\, Rachel will share useful tips and t
 ricks\, help you tackle sewing with vinyl\, explore ways to customize the 
 pattern to fit your needs\, and\, of course\, enjoy some great company!\n\
 nIn this class\, we will be making the large size bag (finishes to 13.5" x
  13.5").  To make this as accessible as possible\, included in the class 
 fee is the vinyl and Soft and Stable needed for the large bag.  This is a
  confident beginner project.  Once you make one\, you will want to make m
 ore.  They also make great gifts!\n\nHere is a link to the supply list:\n
 \nProject Bags 2.0 | ByAnnie.com   Scroll down and you will see a tab fo
 r Supply List and Other Items Needed\n\nQuestions:  Rachel McCarthy (for 
 members)\, info@paqa.net (guests)
ATTACH;FMTTYPE=image/jpeg:https://paqa.net/wp-content/uploads/2026/04/By-A
 nnie-Projec-Bag-Pattern.jpg
CATEGORIES:Class/Workshop
LOCATION:35th Ave Sew and Vac - Northern\, 3548 W. Northern Ave\, Phoenix\,
  Arizona\, 85051\, United States
GEO:33.553972;-112.134897
X-APPLE-STRUCTURED-LOCATION;VALUE=URI;X-ADDRESS=3548 W. Northern Ave\, Phoe
 nix\, Arizona\, 85051\, United States;X-APPLE-RADIUS=100;X-TITLE=35th Ave 
 Sew and Vac - Northern:geo:33.553972,-112.134897
END:VEVENT
BEGIN:VTIMEZONE
TZID:America/Phoenix
X-LIC-LOCATION:America/Phoenix
BEGIN:STANDARD
DTSTART:20250517T100000
TZOFFSETFROM:-0700
TZOFFSETTO:-0700
TZNAME:MST
END:STANDARD
END:VTIMEZONE
END:VCALENDAR