BEGIN:VCALENDAR
VERSION:2.0
PRODID:-//wp-events-plugin.com//7.2.2.1//EN
TZID:America/Phoenix
X-WR-TIMEZONE:America/Phoenix
BEGIN:VEVENT
UID:745@paqa.net
DTSTART;TZID=America/Phoenix:20260425T090000
DTEND;TZID=America/Phoenix:20260425T164500
DTSTAMP:20260417T173053Z
URL:https://paqa.net/events/saturday-1-day-ticket-april-25th-35th-ave-in-t
 own-retreat/
SUMMARY:Saturday 1-Day Ticket - April 25th 35th Ave In-Town Retreat
DESCRIPTION:You are purchasing a ticket for Saturday\, April 25th only.  T
 his ticket can be purchased starting at 7:00 am April 21st.\n\n&nbsp\;\n\n
 General info:\n\nRetreat is held in the Event Center at 35th Ave Sew ‘N 
 Vac. This is a no frills retreat. You can just turn off your machine for t
 he day without schlepping your stuff back and forth!\n\nHours - Saturday 9
 am - 4:45 pm\nHost:  Nancy Johnson\n\nQuestions?\n\nPAQA Member - contact
  Debbie Kohn (contact info in the Directory)\nGuests - email info@paqa.net
 \n\nBooking problems? contact Melodie DeGarmo\n\n&nbsp\;\n\n&nbsp\;
CATEGORIES:Retreats
LOCATION:35th Ave Sew and Vac Event Center\, 3548 W. Northern Ave\, Phoenix
 \, AZ\, 85051\, United States
GEO:33.553972;-112.134908
X-APPLE-STRUCTURED-LOCATION;VALUE=URI;X-ADDRESS=3548 W. Northern Ave\, Phoe
 nix\, AZ\, 85051\, United States;X-APPLE-RADIUS=100;X-TITLE=35th Ave Sew a
 nd Vac Event Center:geo:33.553972,-112.134908
END:VEVENT
BEGIN:VTIMEZONE
TZID:America/Phoenix
X-LIC-LOCATION:America/Phoenix
BEGIN:STANDARD
DTSTART:20250425T090000
TZOFFSETFROM:-0700
TZOFFSETTO:-0700
TZNAME:MST
END:STANDARD
END:VTIMEZONE
END:VCALENDAR