BEGIN:VCALENDAR
VERSION:2.0
PRODID:-//wp-events-plugin.com//7.2.2.1//EN
TZID:America/Phoenix
X-WR-TIMEZONE:America/Phoenix
BEGIN:VEVENT
UID:715@paqa.net
DTSTART;TZID=America/Phoenix:20260430T140000
DTEND;TZID=America/Phoenix:20260430T170000
DTSTAMP:20260107T151433Z
URL:https://paqa.net/events/sit-sew-29/
SUMMARY:Sit & Sew
DESCRIPTION:Come join us for sewing and laughs over Zoom (link in this even
 t).  Please feel free to come and go as your schedule allows.  We've fou
 nd this to be a great time to do tedious things because the conversation h
 elps keep you entertained. Host: Beth Gable The link is under Where in the
  event. Just click on Zoom Link.
ATTACH;FMTTYPE=image/jpeg:https://paqa.net/wp-content/uploads/2024/01/Open
 -Sew.jpg
CATEGORIES:Online Sit and Sew,Social Groups
LOCATION:https://us06web.zoom.us/j/92061581193?pwd=T2FmRldjcWpNWGtWalhhYy9m
 NmtZdz09
END:VEVENT
BEGIN:VTIMEZONE
TZID:America/Phoenix
X-LIC-LOCATION:America/Phoenix
BEGIN:STANDARD
DTSTART:20250430T140000
TZOFFSETFROM:-0700
TZOFFSETTO:-0700
TZNAME:MST
END:STANDARD
END:VTIMEZONE
END:VCALENDAR