BEGIN:VCALENDAR
VERSION:2.0
PRODID:-//wp-events-plugin.com//7.2.2.1//EN
TZID:America/Phoenix
X-WR-TIMEZONE:America/Phoenix
BEGIN:VEVENT
UID:746@paqa.net
DTSTART;TZID=America/Phoenix:20260426T100000
DTEND;TZID=America/Phoenix:20260426T154500
DTSTAMP:20260417T173647Z
URL:https://paqa.net/events/sunday-1-day-ticket-april-26th-35th-ave-in-tow
 n-retreat/
SUMMARY:Sunday 1-Day Ticket - April 26th 35th Ave In-Town Retreat
DESCRIPTION:You are purchasing a ticket for Sunday\, April 26th only.  Thi
 s ticket can be purchased starting at 7:00 am April 21st.\nGeneral info:\n
 \nRetreat is held in the Event Center at 35th Ave Sew ‘N Vac. This is a 
 no frills retreat. Just bring your project and sew with your PAQA friends.
 \n\nHours - Sunday 10am - 3:45 pm\nHost:  Nancy Johnson\n\nQuestions?\n\n
 PAQA Member - contact Debbie Kohn (contact info in the Directory)\nGuests 
 - email info@paqa.net\n\nIf you have any difficulty booking this ticket\, 
 please contact Melodie DeGarmo\n\n&nbsp\;\n\n&nbsp\;
CATEGORIES:Retreats
LOCATION:35th Ave Sew and Vac Event Center\, 3548 W. Northern Ave\, Phoenix
 \, AZ\, 85051\, United States
GEO:33.553972;-112.134908
X-APPLE-STRUCTURED-LOCATION;VALUE=URI;X-ADDRESS=3548 W. Northern Ave\, Phoe
 nix\, AZ\, 85051\, United States;X-APPLE-RADIUS=100;X-TITLE=35th Ave Sew a
 nd Vac Event Center:geo:33.553972,-112.134908
END:VEVENT
BEGIN:VTIMEZONE
TZID:America/Phoenix
X-LIC-LOCATION:America/Phoenix
BEGIN:STANDARD
DTSTART:20250426T100000
TZOFFSETFROM:-0700
TZOFFSETTO:-0700
TZNAME:MST
END:STANDARD
END:VTIMEZONE
END:VCALENDAR