BEGIN:VCALENDAR
VERSION:2.0
PRODID:-//wp-events-plugin.com//7.2.2.1//EN
TZID:America/Phoenix
X-WR-TIMEZONE:America/Phoenix
BEGIN:VEVENT
UID:722@paqa.net
DTSTART;TZID=America/Phoenix:20260517T100000
DTEND;TZID=America/Phoenix:20260517T154500
DTSTAMP:20260418T171919Z
URL:https://paqa.net/events/sunday-sew-day-may-17/
SUMMARY:Sunday Sew Day - May 17
DESCRIPTION:Join us for a fun day of working on your UFO's!
CATEGORIES:Sunday Sew Day
LOCATION:35th Ave Sew and Vac - Northern\, 3548 W. Northern Ave\, Phoenix\,
  Arizona\, 85051\, United States
GEO:33.553972;-112.134897
X-APPLE-STRUCTURED-LOCATION;VALUE=URI;X-ADDRESS=3548 W. Northern Ave\, Phoe
 nix\, Arizona\, 85051\, United States;X-APPLE-RADIUS=100;X-TITLE=35th Ave 
 Sew and Vac - Northern:geo:33.553972,-112.134897
END:VEVENT
BEGIN:VTIMEZONE
TZID:America/Phoenix
X-LIC-LOCATION:America/Phoenix
BEGIN:STANDARD
DTSTART:20250517T100000
TZOFFSETFROM:-0700
TZOFFSETTO:-0700
TZNAME:MST
END:STANDARD
END:VTIMEZONE
END:VCALENDAR