BEGIN:VCALENDAR
VERSION:2.0
PRODID:-//wp-events-plugin.com//7.2.2.1//EN
TZID:America/Phoenix
X-WR-TIMEZONE:America/Phoenix
BEGIN:VEVENT
UID:720@paqa.net
DTSTART;TZID=America/Phoenix:20260630T000000
DTEND;TZID=America/Phoenix:20260705T000000
DTSTAMP:20260419T000046Z
URL:https://paqa.net/events/test-event-3/
SUMMARY:Flagstaff Retreat - June 30 - July 5
DESCRIPTION:BOOKINGS ARE TEMPORARILY CLOSED FOR THIS EVENT\nIF YOU WANT A S
 EAT\, PLEASE CONTACT DEB KOHN DIRECTLY\n&nbsp\;\n\nPlease join us in the c
 ool pines of Flagstaff\, Arizona for six days and five nights of quilting 
 fun! The retreat will be Tuesday\, June 30 – Sunday\, July 5\, 2026 at O
 degaards‘s Retreat Center in Flagstaff. The cost is $240 per person for 
 PAQA members\, $250 for guests.   We will plan five team dinners\, but t
 he price includes snacks\, door prizes\, 24 hour sewing room\, shared bedr
 ooms with twin beds\, optional evening games and activities\, and lots of 
 fun\, inspiration and laughter.  Photos of the retreat center are on the 
 PAQA website. Go to Activities &gt\; Retreats and scroll down to the botto
 m for the photos.\n\nRegistration opens Monday\, March 30th at 7:00 am for
  PAQA members.\nGuest registration opens Saturday\, May 30th at 7:00 am\n\
 nRegistration closes on June 15th at 7:00 pm\n\nFor any questions\, contac
 t Debbie Kohn email\, text\, or phone.\n\n&nbsp\;\n\nHost: Debbie Kohn
ATTACH;FMTTYPE=image/jpeg:https://paqa.net/wp-content/uploads/2024/03/IMG_
 2144_1709574911823.jpg
CATEGORIES:Retreats
LOCATION:Odegaard's Retreat Center\, Flagstaff\, AZ\, 403 W Havasupai Rd\, 
 Flagstaff\, AZ\, 86001\, United States
GEO:35.20995;-111.649102
X-APPLE-STRUCTURED-LOCATION;VALUE=URI;X-ADDRESS=403 W Havasupai Rd\, Flagst
 aff\, AZ\, 86001\, United States;X-APPLE-RADIUS=100;X-TITLE=Odegaard's Ret
 reat Center\, Flagstaff\, AZ:geo:35.20995,-111.649102
END:VEVENT
BEGIN:VTIMEZONE
TZID:America/Phoenix
X-LIC-LOCATION:America/Phoenix
BEGIN:STANDARD
DTSTART:20250630T000000
TZOFFSETFROM:-0700
TZOFFSETTO:-0700
TZNAME:MST
END:STANDARD
END:VTIMEZONE
END:VCALENDAR